BEGIN:VCALENDAR
VERSION:2.0
PRODID:-//wp-events-plugin.com//7.2.3.1//EN
BEGIN:VEVENT
UID:1159@deutscheshaus.org
DTSTART;TZID=America/Chicago:20260308T110000
DTEND;TZID=America/Chicago:20260308T163000
DTSTAMP:20260212T143700Z
URL:https://deutscheshaus.org/events/st-patricks-celebration-2/
SUMMARY:St. Patrick’s Celebration
DESCRIPTION:St. Patrick’s Celebration. Sunday\, March 9\, 11am-3:30pm.\n\
 nThe Haus is turned over to the Irish for the whole day.  Bring the famil
 y – it’s free and open to the public. \n\nTraditional Irish food\, Mu
 sicians\, Bag Pipers\, Irish Dancers\, & Guinness on tap!\n\nMore details 
 to come.
ATTACH;FMTTYPE=image/jpeg:https://deutscheshaus.org/wp-content/uploads/202
 6/01/DH-St-Patricks-Celebrate-480-x-319.jpg
CATEGORIES:Haus Event
END:VEVENT
BEGIN:VTIMEZONE
TZID:America/Chicago
X-LIC-LOCATION:America/Chicago
BEGIN:DAYLIGHT
DTSTART:20260308T030000
TZOFFSETFROM:-0600
TZOFFSETTO:-0500
TZNAME:CDT
END:DAYLIGHT
END:VTIMEZONE
END:VCALENDAR