BEGIN:VCALENDAR
VERSION:2.0
PRODID:-//wp-events-plugin.com//7.2.3.1//EN
BEGIN:VEVENT
UID:915@deutscheshaus.org
DTSTART;TZID=America/Chicago:20260530T140000
DTEND;TZID=America/Chicago:20260530T140000
DTSTAMP:20260420T231815Z
URL:https://deutscheshaus.org/events/quarterly-general-membership-meeting-
 6/
SUMMARY:Quarterly General Membership Meeting - NEW DATE
DESCRIPTION:NEW DATE - Join us for our Quarterly Membership Meeting\n\nWe e
 ncourage all members to attend to hear our financial status and upcoming e
 vents at the Haus\n\nHope to see everyone there!
ATTACH;FMTTYPE=image/jpeg:https://deutscheshaus.org/wp-content/uploads/202
 5/08/DH-Qarterly-Gen-Memb-Mtg-header-500-x-318-74p.webp
CATEGORIES:Haus Event
END:VEVENT
BEGIN:VTIMEZONE
TZID:America/Chicago
X-LIC-LOCATION:America/Chicago
BEGIN:DAYLIGHT
DTSTART:20260308T030000
TZOFFSETFROM:-0600
TZOFFSETTO:-0500
TZNAME:CDT
END:DAYLIGHT
END:VTIMEZONE
END:VCALENDAR