BEGIN:VCALENDAR
VERSION:2.0
PRODID:-//wp-events-plugin.com//7.2.3.1//EN
BEGIN:VEVENT
UID:1147@deutscheshaus.org
DTSTART:20260318T180000Z
DTEND:20260318T210000Z
DTSTAMP:20260121T233224Z
URL:https://deutscheshaus.org/events/private-event-bierstube-12/
SUMMARY:Private Event - Bierstube
DESCRIPTION:Private Event - Bierstube
CATEGORIES:Private Event
END:VEVENT
END:VCALENDAR