BEGIN:VCALENDAR
VERSION:2.0
PRODID:-//wp-events-plugin.com//7.2.3.1//EN
BEGIN:VEVENT
UID:927@deutscheshaus.org
DTSTART;TZID=America/Chicago:20261118T190000
DTEND;TZID=America/Chicago:20261118T190000
DTSTAMP:20260117T004913Z
URL:https://deutscheshaus.org/events/live-music-john-rankin-8/
SUMMARY:Live Music - John Rankin 
DESCRIPTION:Live Music -\nwith John Rankin \n\n\n\n\nFree and open to the
  public. Tips much appreciated.
ATTACH;FMTTYPE=image/jpeg:https://deutscheshaus.org/wp-content/uploads/202
 6/01/DH-John-Rankin-plain-480-x-319-1.jpg
CATEGORIES:Haus Event
END:VEVENT
BEGIN:VTIMEZONE
TZID:America/Chicago
X-LIC-LOCATION:America/Chicago
BEGIN:STANDARD
DTSTART:20261101T010000
TZOFFSETFROM:-0500
TZOFFSETTO:-0600
TZNAME:CST
END:STANDARD
END:VTIMEZONE
END:VCALENDAR