BEGIN:VCALENDAR
VERSION:2.0
PRODID:-//wp-events-plugin.com//7.2.3.1//EN
BEGIN:VEVENT
UID:921@deutscheshaus.org
DTSTART;TZID=America/Chicago:20260429T190000
DTEND;TZID=America/Chicago:20260429T190000
DTSTAMP:20260313T141808Z
URL:https://deutscheshaus.org/events/live-music-john-rankin-2/
SUMMARY:Live Music - John Rankin with Ed Wise\, Doug Belote\, & Matt Rhody
DESCRIPTION:Live Music -\nJohn Rankin with Ed Wise on bass\, Doug Belote on
  drums\, and Matt Rhody on violin and mandolin.\n\n\n\n\nFree and open to 
 the public. Tips much appreciated.
ATTACH;FMTTYPE=image/jpeg:https://deutscheshaus.org/wp-content/uploads/202
 6/01/DH-Rankin-and-EW-DB-MR-480-x-319-1.jpg
CATEGORIES:Haus Event
END:VEVENT
BEGIN:VTIMEZONE
TZID:America/Chicago
X-LIC-LOCATION:America/Chicago
BEGIN:DAYLIGHT
DTSTART:20260308T030000
TZOFFSETFROM:-0600
TZOFFSETTO:-0500
TZNAME:CDT
END:DAYLIGHT
END:VTIMEZONE
END:VCALENDAR