BEGIN:VCALENDAR
VERSION:2.0
PRODID:-//wp-events-plugin.com//7.2.3.1//EN
BEGIN:VEVENT
UID:906@deutscheshaus.org
DTSTART;TZID=America/Chicago:20260421T190000
DTEND;TZID=America/Chicago:20260421T190000
DTSTAMP:20260116T175506Z
URL:https://deutscheshaus.org/events/kulturabend-music/
SUMMARY:Kulturabend - Music
DESCRIPTION:Kulturabend\n\n\n\n\nNew Orleans Trombone Choir\nPresents a var
 iety of music for your enjoyment\n\n\n\n\nTuesday\, April 21 - Program sta
 rts at 7:00\n\nFree and Open to the Public\n\nThis is sponsored by the Ger
 man-American Cultural Center of Gretna and the Ladies Auxiliary of the De
 utsches Haus.
ATTACH;FMTTYPE=image/jpeg:https://deutscheshaus.org/wp-content/uploads/202
 6/01/DH-Kulturabend-NO-Trombone-Choir-480-x-319.jpg
CATEGORIES:Haus Event
END:VEVENT
BEGIN:VTIMEZONE
TZID:America/Chicago
X-LIC-LOCATION:America/Chicago
BEGIN:DAYLIGHT
DTSTART:20260308T030000
TZOFFSETFROM:-0600
TZOFFSETTO:-0500
TZNAME:CDT
END:DAYLIGHT
END:VTIMEZONE
END:VCALENDAR