BEGIN:VCALENDAR
VERSION:2.0
PRODID:-//wp-events-plugin.com//7.2.3.1//EN
BEGIN:VEVENT
UID:1167@deutscheshaus.org
DTSTART;TZID=America/Chicago:20260428T193000
DTEND;TZID=America/Chicago:20260428T193000
DTSTAMP:20260329T145903Z
URL:https://deutscheshaus.org/events/kino-tbd-3/
SUMMARY:Kino - Der Hauptmann von Koepenick
DESCRIPTION:Kino - Der Hauptmann von Koepenick\n\n\n\n\nCome enjoy this hil
 arious deutsche Filmklassiker from Regie Helmut Käutner! Adapted from a p
 lay by Carl\nZuckmayer\, this was Germany’s nomination for Oscar’s Bes
 t Foreign Film\, & stars berühmter Schauspieler Heinz\nRühmann (Hurra\, 
 Ich Bin Papa!\, Die Feuerzangenbowle) as a former prisoner sent away for f
 orgery\, who after serving\nhis time\, just wants a passport to work as a 
 cobbler in Germany\, but cannot obtain one unless he has a job\, but canno
 t\nbe employed until he has a passport!!! Fact: In 1906\, Wilhelm Voigt su
 ccessfully impersonated a Prussian Captain\,\noccupied their City Hall\, &
  had both the Mayor & Treasurer of Köpenick arrested! Komödie will be sc
 reened in\noriginal German & subtitled in English.\n\nKINO im DEUTSCHEN HA
 US -- die besten deutschen Filme-\nKOSTENLOS FREE\n\n\n\n\nHear the legend
 ary Deutsche Diva as she sings her best known songs in English\, French & 
 German! All selections are arranged & directed by her reliable Dirigent: B
 urt Bacharach. This would be her last live Konzert before she would retire
  to became somewhat of a recluse.\n\nFSK: 0\nKostenlos Free
ATTACH;FMTTYPE=image/jpeg:https://deutscheshaus.org/wp-content/uploads/202
 6/01/DH-Kino-Der-Hauptmann-480-x-319.jpg
CATEGORIES:Haus Event
END:VEVENT
BEGIN:VTIMEZONE
TZID:America/Chicago
X-LIC-LOCATION:America/Chicago
BEGIN:DAYLIGHT
DTSTART:20260308T030000
TZOFFSETFROM:-0600
TZOFFSETTO:-0500
TZNAME:CDT
END:DAYLIGHT
END:VTIMEZONE
END:VCALENDAR