BEGIN:VCALENDAR
VERSION:2.0
PRODID:-//wp-events-plugin.com//7.2.3.1//EN
BEGIN:VEVENT
UID:1166@deutscheshaus.org
DTSTART;TZID=America/Chicago:20260414T193000
DTEND;TZID=America/Chicago:20260414T193000
DTSTAMP:20260323T171224Z
URL:https://deutscheshaus.org/events/kino-tbd-2/
SUMMARY:Kino - Bella Martha
DESCRIPTION:Kino - Bella Martha\n\n\n\n\nCome enjoy a Komödie at the Haus!
  Mostly Martha is directed by Sandra Nettleback\, & stars\nSchauspielerin 
 Martina Gedeck (Das Leben des Anderens\, Baader Meinhof Komplex) as a perf
 ectionist\nChefkoch who relates her life to her cooking! Film costars: Ser
 gio Castellitto & Maxime Foerste\, & will be\nscreened in German & subtitl
 ed in English. FSK: 0
ATTACH;FMTTYPE=image/jpeg:https://deutscheshaus.org/wp-content/uploads/202
 6/01/DH-Kino-bella-farbe.jpg
CATEGORIES:Haus Event
END:VEVENT
BEGIN:VTIMEZONE
TZID:America/Chicago
X-LIC-LOCATION:America/Chicago
BEGIN:DAYLIGHT
DTSTART:20260308T030000
TZOFFSETFROM:-0600
TZOFFSETTO:-0500
TZNAME:CDT
END:DAYLIGHT
END:VTIMEZONE
END:VCALENDAR