BEGIN:VCALENDAR
VERSION:2.0
PRODID:-//wp-events-plugin.com//7.2.3.1//EN
BEGIN:VEVENT
UID:1162@deutscheshaus.org
DTSTART;TZID=America/Chicago:20260222T140000
DTEND;TZID=America/Chicago:20260222T140000
DTSTAMP:20260126T142442Z
URL:https://deutscheshaus.org/events/coming-to-america-lecture-series-5/
SUMMARY:Coming to America Lecture Series
DESCRIPTION:Peter Wolf\nThe Etruscans and the Jews Land in New Orleans\n\n\
 n\nIn his new book\, The Etruscans and the Jews\, author Peter Wolf trace
 s a story that moves endlessly westward — from ancient Israel to western
  Turkey\, then onward to Italy\, Sardinia\, and France. In the nineteenth 
 century\, immigrants from these regions carried their mixed Etruscan herit
 age across the Atlantic\, where the journey continued in America.
ATTACH;FMTTYPE=image/jpeg:https://deutscheshaus.org/wp-content/uploads/202
 6/01/DH-CTA-Peter-Wolf-480-x-319.jpg
CATEGORIES:Haus Event
END:VEVENT
BEGIN:VTIMEZONE
TZID:America/Chicago
X-LIC-LOCATION:America/Chicago
BEGIN:STANDARD
DTSTART:20251102T010000
TZOFFSETFROM:-0500
TZOFFSETTO:-0600
TZNAME:CST
END:STANDARD
END:VTIMEZONE
END:VCALENDAR