BEGIN:VCALENDAR
VERSION:2.0
PRODID:-//wp-events-plugin.com//7.2.3.1//EN
BEGIN:VEVENT
UID:1160@deutscheshaus.org
DTSTART;TZID=America/Chicago:20260308T170000
DTEND;TZID=America/Chicago:20260308T170000
DTSTAMP:20260212T144006Z
URL:https://deutscheshaus.org/events/beth-patterson-concert-2/
SUMMARY:Beth Patterson Concert
DESCRIPTION:Beth Patterson Concert\nMembers $15 / Non-Members $20\n\n\n\nTi
 cket details coming soon.
ATTACH;FMTTYPE=image/jpeg:https://deutscheshaus.org/wp-content/uploads/202
 5/02/Patterson.jpg
CATEGORIES:Haus Event
END:VEVENT
BEGIN:VTIMEZONE
TZID:America/Chicago
X-LIC-LOCATION:America/Chicago
BEGIN:DAYLIGHT
DTSTART:20260308T030000
TZOFFSETFROM:-0600
TZOFFSETTO:-0500
TZNAME:CDT
END:DAYLIGHT
END:VTIMEZONE
END:VCALENDAR